BEGIN:VCALENDAR
VERSION:2.0
PRODID:-//kommunaljutsu.org//NONSGML v1.0//EN
METHOD:PUBLISH
CALSCALE:GREGORIAN
BEGIN:VEVENT
UID:https://hitzendorf.kommunaljutsu.org/veranstaltungen/workshop-sch
 lafsprechstunde/
DTSTAMP:20260422T111408Z
DTSTART:20260506T070000Z
DTEND:20260506T090000Z
LOCATION:
DESCRIPTION:  Der Workshop ist kostenlos\, aber mit Anmeldung!\nAnme
 ldung und weitere Infos:  bei Lisa Pronegg unter +43 (0699) 12221217
  oder per Mail an projekte@ﬂexiblehilfen-gu.at .Nähere Infos zum 
 Jugendreferat Hitzendorf » \nNähere Infos zur ArGe flexible Hilfen
  »\n  \n  Aussendung des Veranstalters:  \n PDF downloaden/druck
 en » Veranstaltungsort anzeigen »  \n
URL;VALUE=URI:
SUMMARY:workshop-schlafsprechstunde
BEGIN:VALARM
TRIGGER;VALUE=DATE-TIME:20260505T130000Z
ACTION:DISPLAY
DESCRIPTION:ALARM
END:VALARM
END:VEVENT
END:VCALENDAR
