BEGIN:VCALENDAR
VERSION:2.0
PRODID:-//kommunaljutsu.org//NONSGML v1.0//EN
METHOD:PUBLISH
CALSCALE:GREGORIAN
BEGIN:VEVENT
UID:https://hitzendorf.kommunaljutsu.org/veranstaltungen/workshop-ges
 chwister-werden-geschwister-sein/
DTSTAMP:20260420T133753Z
DTSTART:20260422T070000Z
DTEND:20260422T090000Z
LOCATION:
DESCRIPTION:Â \nDer Workshop ist kostenlos\, aber mit Anmeldung!\nAnm
 eldung und weitere Infos: Â bei Lisa Pronegg unter +43 (0699) 1222121
 7 oder per Mail an projekte@ï¬‚exiblehilfen-gu.at .NÃ¤here Infos zumÂ
  Jugendreferat Hitzendorf Â» \nNÃ¤here InfosÂ zur ArGe flexible Hilfe
 nÂ Â»\n Â \nÂ  Aussendung des Veranstalters: Â \n PDF downloaden/druc
 kenÂ Â» Veranstaltungsort anzeigen Â» Â \n
URL;VALUE=URI:
SUMMARY:workshop-geschwister-werden-geschwister-sein
BEGIN:VALARM
TRIGGER;VALUE=DATE-TIME:20260421T130000Z
ACTION:DISPLAY
DESCRIPTION:ALARM
END:VALARM
END:VEVENT
END:VCALENDAR
