BEGIN:VCALENDAR
VERSION:2.0
PRODID:-//kommunaljutsu.org//NONSGML v1.0//EN
METHOD:PUBLISH
CALSCALE:GREGORIAN
BEGIN:VEVENT
UID:https://hitzendorf.kommunaljutsu.org/veranstaltungen/spaziergang-
 kunstmeile/
DTSTAMP:20260422T110829Z
DTSTART:20260426T220000Z
DTEND:20260426T220000Z
LOCATION:
DESCRIPTION:Kontakt:\n+43 (664) 75075081 Monika Hubmann\nÂ  Tag des Z
 u-Fuss-Gehens. FÃ¼hrungen um 09.00 und 10.00 Uhr!Aus organisatorische
 n GrÃ¼nden wird um Anmeldung gebeten.\nNÃ¤here Infos zum Veranstalter
  Â» Â \nÂ  Aussendung des Veranstalters: Â  PDF downloaden/druckenÂ Â
 » \n Â \n
URL;VALUE=URI:
SUMMARY:spaziergang-kunstmeile
BEGIN:VALARM
TRIGGER;VALUE=DATE-TIME:20260426T130000Z
ACTION:DISPLAY
DESCRIPTION:ALARM
END:VALARM
END:VEVENT
END:VCALENDAR
