BEGIN:VCALENDAR
VERSION:2.0
PRODID:-//kommunaljutsu.org//NONSGML v1.0//EN
METHOD:PUBLISH
CALSCALE:GREGORIAN
BEGIN:VEVENT
UID:https://hitzendorf.kommunaljutsu.org/veranstaltungen/elterncafe-m
 it-baby-und-spieletreff-und-hebammensprechstunde/
DTSTAMP:20260421T122438Z
DTSTART:20260505T070000Z
DTEND:20260505T090000Z
LOCATION:
DESCRIPTION:  Hinweis:  Von 10 bis 11 Uhr Hebammensprechstunde &#82
 11\; Beckenboden und Rumpf wieder stärken. Nach Vaginaler- sowie nac
 h Kaisergeburt braucht mein Körper Zeit und Aufmerksamkeit um wieder
  zu seiner Kraft zu kommen. Ein Kind zu bekommen ist wunderbar\, es 
 verändert das ganze Leben. Es ergeben sich Situationen und Fragen\, 
 auf die man nicht gleich eine Antwort&hellip\; weiterlesen: &#8222\;E
 lterncafe mit Baby- und Spieletreff und Hebammensprechstunde&#8220\;\
 n
URL;VALUE=URI:
SUMMARY:elterncafe-mit-baby-und-spieletreff-und-hebammensprechstunde
BEGIN:VALARM
TRIGGER;VALUE=DATE-TIME:20260504T130000Z
ACTION:DISPLAY
DESCRIPTION:ALARM
END:VALARM
END:VEVENT
END:VCALENDAR
